BEGIN:VCALENDAR
VERSION:2.0
PRODID:-//AudioTheme 2.3.8
BEGIN:VEVENT
UID:urn:uuid:91451bb0-0d77-47c4-901f-1506189d3b65
URL:https://mitchmcvicker.com/concerts/gig-1966/
DTSTART;VALUE=DATE:20101121
SUMMARY:Gateway Community Church
LOCATION:Gateway Community Church\, Wylie\, TX
END:VEVENT
END:VCALENDAR
