BEGIN:VCALENDAR
VERSION:2.0
PRODID:-//AudioTheme 2.3.8
BEGIN:VEVENT
UID:urn:uuid:a41f3958-ef9e-4e64-87ac-c68c2a885cba
URL:https://mitchmcvicker.com/concerts/gig-1960/
DTSTART;VALUE=DATE:20101107
SUMMARY:Park Chapel Christian Church
LOCATION:Park Chapel Christian Church\, Greenfield\, IN
END:VEVENT
END:VCALENDAR
