BEGIN:VCALENDAR
VERSION:2.0
PRODID:-//AudioTheme 2.3.8
BEGIN:VEVENT
UID:urn:uuid:806a7af2-cd72-419d-abe0-4ce6b44a778d
URL:https://mitchmcvicker.com/concerts/gig-1959/
DTSTART;VALUE=DATE:20101106
SUMMARY:First Assembly of God
LOCATION:First Assembly of God\, Normal\, IL
END:VEVENT
END:VCALENDAR
