BEGIN:VCALENDAR
VERSION:2.0
PRODID:-//AudioTheme 2.3.8
BEGIN:VEVENT
UID:urn:uuid:3107cc87-cefe-41c7-8ac7-3c18f79a6967
URL:https://mitchmcvicker.com/concerts/gig-1957/
DTSTART;VALUE=DATE:20101105
SUMMARY:Altamont Christian Church
LOCATION:Altamont Christian Church\, Altamont\, IL
END:VEVENT
END:VCALENDAR
