BEGIN:VCALENDAR
VERSION:2.0
PRODID:-//AudioTheme 2.3.8
BEGIN:VEVENT
UID:urn:uuid:b8189135-4665-4667-b19c-6ea9f7070694
URL:https://mitchmcvicker.com/concerts/gig-1956/
DTSTART;VALUE=DATE:20101104
SUMMARY:Chapel Hill United Methodist Church
LOCATION:Chapel Hill United Methodist Church\, Oklahoma City\, OK
END:VEVENT
END:VCALENDAR
