BEGIN:VCALENDAR
VERSION:2.0
PRODID:-//AudioTheme 2.3.8
BEGIN:VEVENT
UID:urn:uuid:bb4ee5e8-c2f5-4416-b3d8-ea21de9d6d82
URL:https://mitchmcvicker.com/concerts/gig-1955/
DTSTART;VALUE=DATE:20101103
SUMMARY:Topeka  Free Methodist Church
LOCATION:Topeka  Free Methodist Church\, 3450 SE Indiana Ave\, Topeka\, KS
END:VEVENT
END:VCALENDAR
