BEGIN:VCALENDAR
VERSION:2.0
PRODID:-//AudioTheme 2.3.8
BEGIN:VEVENT
UID:urn:uuid:7dd67e78-f742-42b9-9f8f-765eb7f172c0
URL:https://mitchmcvicker.com/concerts/gig-1954/
DTSTART;VALUE=DATE:20101025
SUMMARY:Bethany Lutheran Church
LOCATION:Bethany Lutheran Church\, Star Prairie\, WI
END:VEVENT
END:VCALENDAR
