BEGIN:VCALENDAR
VERSION:2.0
PRODID:-//AudioTheme 2.3.8
BEGIN:VEVENT
UID:urn:uuid:aa412636-06a3-40f5-93c4-45ab1bb35610
URL:https://mitchmcvicker.com/concerts/gig-1952/
DTSTART;VALUE=DATE:20101024
SUMMARY:South Metro Vineyard Church
LOCATION:South Metro Vineyard Church\, Burnsville\, MN
END:VEVENT
END:VCALENDAR
