BEGIN:VCALENDAR
VERSION:2.0
PRODID:-//AudioTheme 2.3.8
BEGIN:VEVENT
UID:urn:uuid:9480b9bb-9c5b-47d4-ad42-8d99fe253fd9
URL:https://mitchmcvicker.com/concerts/gig-1951/
DTSTART;VALUE=DATE:20101023
SUMMARY:Trinity Lutheran Church
LOCATION:Trinity Lutheran Church\, 1410 Rogers St\, Stevens Point\, WI\, USA\, 54481
END:VEVENT
END:VCALENDAR
