BEGIN:VCALENDAR
VERSION:2.0
PRODID:-//AudioTheme 2.3.8
BEGIN:VEVENT
UID:urn:uuid:010b5d7f-d6df-4954-8bdf-b06523dbe126
URL:https://mitchmcvicker.com/concerts/gig-1949/
DTSTART;VALUE=DATE:20101022
SUMMARY:Good Shepherd Episcopal Church
LOCATION:Good Shepherd Episcopal Church\, Sun Prairie\, WI
END:VEVENT
END:VCALENDAR
