BEGIN:VCALENDAR
VERSION:2.0
PRODID:-//AudioTheme 2.3.8
BEGIN:VEVENT
UID:urn:uuid:c9324251-5859-4bd3-9bdb-9326e652a98d
URL:https://mitchmcvicker.com/concerts/gig-1947/
DTSTART;VALUE=DATE:20101021
SUMMARY:Gloria Dei Lutheran Church
LOCATION:Gloria Dei Lutheran Church\, Duluth\, MN
END:VEVENT
END:VCALENDAR
