BEGIN:VCALENDAR
VERSION:2.0
PRODID:-//AudioTheme 2.3.8
BEGIN:VEVENT
UID:urn:uuid:fa8005ca-e03b-4ef0-ba34-88704624c784
URL:https://mitchmcvicker.com/concerts/gig-1945/
DTSTART;VALUE=DATE:20101020
SUMMARY:New Covenant Bible Church
LOCATION:New Covenant Bible Church\, Cedar Rapids\, IA
END:VEVENT
END:VCALENDAR
