BEGIN:VCALENDAR
VERSION:2.0
PRODID:-//AudioTheme 2.3.8
BEGIN:VEVENT
UID:urn:uuid:07f2a0bb-02cb-4523-b631-4c620b7bfc9f
URL:https://mitchmcvicker.com/concerts/gig-1943/
DTSTART;VALUE=DATE:20101018
SUMMARY:First Church of the Nazarene
LOCATION:First Church of the Nazarene\, Kearney\, NE
END:VEVENT
END:VCALENDAR
