BEGIN:VCALENDAR
VERSION:2.0
PRODID:-//AudioTheme 2.3.8
BEGIN:VEVENT
UID:urn:uuid:248b93f5-09be-4a2c-9cfa-d2713a0f3639
URL:https://mitchmcvicker.com/concerts/gig-1942/
DTSTART;VALUE=DATE:20101017
SUMMARY:Andover United Methodist Church
LOCATION:Andover United Methodist Church\, Andover\, KS
END:VEVENT
END:VCALENDAR
