BEGIN:VCALENDAR
VERSION:2.0
PRODID:-//AudioTheme 2.3.8
BEGIN:VEVENT
UID:urn:uuid:1d1caf1b-1144-4464-a4f3-e95851548c36
URL:https://mitchmcvicker.com/concerts/gig-1941/
DTSTART;VALUE=DATE:20101010
SUMMARY:Oak Grove Bible Church
LOCATION:Oak Grove Bible Church\, East Peoria\, IL
END:VEVENT
END:VCALENDAR
