BEGIN:VCALENDAR
VERSION:2.0
PRODID:-//AudioTheme 2.3.8
BEGIN:VEVENT
UID:urn:uuid:c0b6aafb-3c11-4df4-a0ac-026f42fe751a
URL:https://mitchmcvicker.com/concerts/gig-1939/
DTSTART;VALUE=DATE:20101009
SUMMARY:Faith's Creation Christian Fellowship
LOCATION:Faith's Creation Christian Fellowship\, Wauwatosa\, WI
END:VEVENT
END:VCALENDAR
