BEGIN:VCALENDAR
VERSION:2.0
PRODID:-//AudioTheme 2.3.8
BEGIN:VEVENT
UID:urn:uuid:58811404-b530-4cb9-b8c5-cc0be844e256
URL:https://mitchmcvicker.com/concerts/gig-1937/
DTSTART;VALUE=DATE:20101008
SUMMARY:House of Good
LOCATION:House of Good\, Elmhurst\, IL
END:VEVENT
END:VCALENDAR
