BEGIN:VCALENDAR
VERSION:2.0
PRODID:-//AudioTheme 2.3.8
BEGIN:VEVENT
UID:urn:uuid:1f21e346-e140-4314-8e7c-2a1219cf9dc9
URL:https://mitchmcvicker.com/concerts/gig-1935/
DTSTART;VALUE=DATE:20101007
SUMMARY:Fifth Avenue Baptist Church
LOCATION:Fifth Avenue Baptist Church\, WV\, 
END:VEVENT
END:VCALENDAR
