BEGIN:VCALENDAR
VERSION:2.0
PRODID:-//AudioTheme 2.3.8
BEGIN:VEVENT
UID:urn:uuid:e3bad36e-5fb2-4f64-b641-5f131b2c2504
URL:https://mitchmcvicker.com/concerts/gig-1933/
DTSTART;VALUE=DATE:20101006
SUMMARY:Church at Clayton Crossings
LOCATION:Church at Clayton Crossings\, Clayton\, NC
END:VEVENT
END:VCALENDAR
