BEGIN:VCALENDAR
VERSION:2.0
PRODID:-//AudioTheme 2.3.8
BEGIN:VEVENT
UID:urn:uuid:97923338-28cc-4164-ae0b-34ab3ca4af2a
URL:https://mitchmcvicker.com/concerts/gig-1931/
DTSTART;VALUE=DATE:20101003
SUMMARY:Leesville Baptist Church
LOCATION:Leesville Baptist Church\, Raleigh\, NC
END:VEVENT
END:VCALENDAR
