BEGIN:VCALENDAR
VERSION:2.0
PRODID:-//AudioTheme 2.3.8
BEGIN:VEVENT
UID:urn:uuid:9de92f07-61bc-4dfa-b185-ff5fae24d1b8
URL:https://mitchmcvicker.com/concerts/gig-1929/
DTSTART;VALUE=DATE:20100928
SUMMARY:Bethesda Mission
LOCATION:Bethesda Mission\, Harrisburg\, PA
END:VEVENT
END:VCALENDAR
