BEGIN:VCALENDAR
VERSION:2.0
PRODID:-//AudioTheme 2.3.8
BEGIN:VEVENT
UID:urn:uuid:244d33f2-7a2f-4229-aee1-e4494e2e4951
URL:https://mitchmcvicker.com/concerts/gig-1928/
DTSTART;VALUE=DATE:20100927
SUMMARY:Susquehanna Valley Baptist Church
LOCATION:Susquehanna Valley Baptist Church\, Oneonta\, NY
END:VEVENT
END:VCALENDAR
