BEGIN:VCALENDAR
VERSION:2.0
PRODID:-//AudioTheme 2.3.8
BEGIN:VEVENT
UID:urn:uuid:4b362351-76e3-4963-bf03-812feb1de9f3
URL:https://mitchmcvicker.com/concerts/gig-1927/
DTSTART;VALUE=DATE:20100926
SUMMARY:First Southern Baptist Church
LOCATION:First Southern Baptist Church\, Williamsport\, PA
END:VEVENT
END:VCALENDAR
