BEGIN:VCALENDAR
VERSION:2.0
PRODID:-//AudioTheme 2.3.8
BEGIN:VEVENT
UID:urn:uuid:a3afb0f5-f6eb-4fe0-9fca-d8726e648e40
URL:https://mitchmcvicker.com/concerts/gig-1923/
DTSTART;VALUE=DATE:20100925
SUMMARY:Cafe Ablaze- Lutheran Church of the Resurrection
LOCATION:Cafe Ablaze- Lutheran Church of the Resurrection\, Garden City\, NY
END:VEVENT
END:VCALENDAR
