BEGIN:VCALENDAR
VERSION:2.0
PRODID:-//AudioTheme 2.3.8
BEGIN:VEVENT
UID:urn:uuid:09f40366-e2a3-464f-b274-ae0d5fb1d41a
URL:https://mitchmcvicker.com/concerts/gig-1922/
DTSTART;VALUE=DATE:20100924
SUMMARY:Trinity United Methodist Church
LOCATION:Trinity United Methodist Church\, Newburgh\, New York
END:VEVENT
END:VCALENDAR
