BEGIN:VCALENDAR
VERSION:2.0
PRODID:-//AudioTheme 2.3.8
BEGIN:VEVENT
UID:urn:uuid:5f239c84-e965-4285-b48b-9d93292ddef6
URL:https://mitchmcvicker.com/concerts/gig-1920/
DTSTART;VALUE=DATE:20100923
SUMMARY:Hilton United Methodist Church
LOCATION:Hilton United Methodist Church\, Hilton\, NY
END:VEVENT
END:VCALENDAR
