BEGIN:VCALENDAR
VERSION:2.0
PRODID:-//AudioTheme 2.3.8
BEGIN:VEVENT
UID:urn:uuid:2ef9e258-0bfe-4e51-84b5-1d4c8a50fe71
URL:https://mitchmcvicker.com/concerts/gig-1919/
DTSTART;VALUE=DATE:20100922
SUMMARY:Verona Seventh Day Baptist Church
LOCATION:Verona Seventh Day Baptist Church\, Verona\, NY
END:VEVENT
END:VCALENDAR
