BEGIN:VCALENDAR
VERSION:2.0
PRODID:-//AudioTheme 2.3.8
BEGIN:VEVENT
UID:urn:uuid:d0bd318e-8286-474a-9484-647c894539ab
URL:https://mitchmcvicker.com/concerts/gig-1917/
DTSTART;VALUE=DATE:20100912
SUMMARY:St. Paul Lutheran Church
LOCATION:St. Paul Lutheran Church\, Treynor\, IA
END:VEVENT
END:VCALENDAR
