BEGIN:VCALENDAR
VERSION:2.0
PRODID:-//AudioTheme 2.3.8
BEGIN:VEVENT
UID:urn:uuid:9c782be3-fc1c-483f-9253-52a0e6500b4e
URL:https://mitchmcvicker.com/concerts/gig-1915/
DTSTART;VALUE=DATE:20100911
SUMMARY:Shenandoah High School
LOCATION:Shenandoah High School\, Shenandoah\, IA
END:VEVENT
END:VCALENDAR
