BEGIN:VCALENDAR
VERSION:2.0
PRODID:-//AudioTheme 2.3.8
BEGIN:VEVENT
UID:urn:uuid:307068c6-0e51-455d-8774-0553ca476e1f
URL:https://mitchmcvicker.com/concerts/gig-1914/
DTSTART;VALUE=DATE:20100910
SUMMARY:Eastview Baptist Church
LOCATION:Eastview Baptist Church\, Belleville\, IL
END:VEVENT
END:VCALENDAR
