BEGIN:VCALENDAR
VERSION:2.0
PRODID:-//AudioTheme 2.3.8
BEGIN:VEVENT
UID:urn:uuid:00d7def6-75f9-44a5-9d80-17d663247556
URL:https://mitchmcvicker.com/concerts/gig-1913/
DTSTART;VALUE=DATE:20100909
SUMMARY:Covenant Christian Church
LOCATION:Covenant Christian Church\, Crawfordsville\, IN
END:VEVENT
END:VCALENDAR
