BEGIN:VCALENDAR
VERSION:2.0
PRODID:-//AudioTheme 2.3.8
BEGIN:VEVENT
UID:urn:uuid:f4385775-3dfc-4a12-8016-36bdb50e751b
URL:https://mitchmcvicker.com/concerts/gig-1911/
DTSTART;VALUE=DATE:20100908
SUMMARY:Generations Church
LOCATION:Generations Church\, Florence (Cincinnati)\, KY
END:VEVENT
END:VCALENDAR
