BEGIN:VCALENDAR
VERSION:2.0
PRODID:-//AudioTheme 2.3.8
BEGIN:VEVENT
UID:urn:uuid:bde3f370-0221-43be-83b1-7222f04bb5ce
URL:https://mitchmcvicker.com/concerts/gig-1909/
DTSTART;VALUE=DATE:20100827
SUMMARY:Johnson Country Park Amphitheater
LOCATION:Johnson Country Park Amphitheater\, Franklin\, IN
END:VEVENT
END:VCALENDAR
