BEGIN:VCALENDAR
VERSION:2.0
PRODID:-//AudioTheme 2.3.8
BEGIN:VEVENT
UID:urn:uuid:da315bcd-558b-48af-8170-8259bd151bdb
URL:https://mitchmcvicker.com/concerts/gig-1901/
DTSTART;VALUE=DATE:20100718
SUMMARY:Faith In Christ Fellowship
LOCATION:Faith In Christ Fellowship\, Duncannon\, PA
END:VEVENT
END:VCALENDAR
