BEGIN:VCALENDAR
VERSION:2.0
PRODID:-//AudioTheme 2.3.8
BEGIN:VEVENT
UID:urn:uuid:3108e187-32bf-4b4e-84dc-656ac451f595
URL:https://mitchmcvicker.com/concerts/gig-1899/
DTSTART;VALUE=DATE:20100717
SUMMARY:Harmony Baptist Church
LOCATION:Harmony Baptist Church\, Middletown\, NY
END:VEVENT
END:VCALENDAR
