BEGIN:VCALENDAR
VERSION:2.0
PRODID:-//AudioTheme 2.3.8
BEGIN:VEVENT
UID:urn:uuid:c0505704-14e3-4b27-ba28-416cdc07f75b
URL:https://mitchmcvicker.com/concerts/gig-1898/
DTSTART;VALUE=DATE:20100714
SUMMARY:Indian Creek Baptist Camp
LOCATION:Indian Creek Baptist Camp\, Bedford\, IN
END:VEVENT
END:VCALENDAR
