BEGIN:VCALENDAR
VERSION:2.0
PRODID:-//AudioTheme 2.3.8
BEGIN:VEVENT
UID:urn:uuid:8959f45a-0279-469f-8a2b-28e76fed1563
URL:https://mitchmcvicker.com/concerts/gig-1897/
DTSTART;VALUE=DATE:20100628
SUMMARY:Next Step Ministries Community Build Camp
LOCATION:Next Step Ministries Community Build Camp\, Crown Point\, NM
END:VEVENT
END:VCALENDAR
