BEGIN:VCALENDAR
VERSION:2.0
PRODID:-//AudioTheme 2.3.8
BEGIN:VEVENT
UID:urn:uuid:2df65748-2a42-4276-886e-7fae17172ff6
URL:https://mitchmcvicker.com/concerts/gig-1896/
DTSTART;VALUE=DATE:20100627
SUMMARY:Church Triumphant
LOCATION:Church Triumphant\, Las Cruces\, NM
END:VEVENT
END:VCALENDAR
