BEGIN:VCALENDAR
VERSION:2.0
PRODID:-//AudioTheme 2.3.8
BEGIN:VEVENT
UID:urn:uuid:276bf3de-e261-45f7-9b93-000938289a2a
URL:https://mitchmcvicker.com/concerts/gig-1894/
DTSTART;VALUE=DATE:20100625
SUMMARY:Next Step Ministries Community Build Camp
LOCATION:Next Step Ministries Community Build Camp\, Crown Point\, NM
END:VEVENT
END:VCALENDAR
