BEGIN:VCALENDAR
VERSION:2.0
PRODID:-//AudioTheme 2.3.8
BEGIN:VEVENT
UID:urn:uuid:7b660ad8-b6a6-4e3a-b485-5edd87f76226
URL:https://mitchmcvicker.com/concerts/gig-1892/
DTSTART;VALUE=DATE:20100621
SUMMARY:Camp Focus
LOCATION:Camp Focus\, Gulf Shore\, AL
END:VEVENT
END:VCALENDAR
