BEGIN:VCALENDAR
VERSION:2.0
PRODID:-//AudioTheme 2.3.8
BEGIN:VEVENT
UID:urn:uuid:122a3b55-6772-431f-8a5e-245d08bd8f7e
URL:https://mitchmcvicker.com/concerts/gig-1891/
DTSTART;VALUE=DATE:20100531
SUMMARY:Yodis Retreat
LOCATION:Yodis Retreat\, Pleasant Garden\, NC
END:VEVENT
END:VCALENDAR
