BEGIN:VCALENDAR
VERSION:2.0
PRODID:-//AudioTheme 2.3.8
BEGIN:VEVENT
UID:urn:uuid:6882626e-da81-4aa5-b11b-44082ec0683b
URL:https://mitchmcvicker.com/concerts/gig-1889/
DTSTART;VALUE=DATE:20100530
SUMMARY:Northridge Church
LOCATION:Northridge Church\, Asheboro\, NC
END:VEVENT
END:VCALENDAR
