BEGIN:VCALENDAR
VERSION:2.0
PRODID:-//AudioTheme 2.3.8
BEGIN:VEVENT
UID:urn:uuid:e6e74a51-9e0e-4258-b9b5-a37240d77944
URL:https://mitchmcvicker.com/concerts/gig-1887/
DTSTART;VALUE=DATE:20100529
SUMMARY:Oak Grove Baptist Church
LOCATION:Oak Grove Baptist Church\, Youngsville\, NC
END:VEVENT
END:VCALENDAR
