BEGIN:VCALENDAR
VERSION:2.0
PRODID:-//AudioTheme 2.3.8
BEGIN:VEVENT
UID:urn:uuid:1f7fa34f-e865-493d-84bf-4c56fb6dc38e
URL:https://mitchmcvicker.com/concerts/gig-1885/
DTSTART;VALUE=DATE:20100523
SUMMARY:Bascomb United Methodist Church
LOCATION:Bascomb United Methodist Church\, Woodstock\, GA
END:VEVENT
END:VCALENDAR
