BEGIN:VCALENDAR
VERSION:2.0
PRODID:-//AudioTheme 2.3.8
BEGIN:VEVENT
UID:urn:uuid:38e598f0-2d3a-40b2-a244-fa8345cda27b
URL:https://mitchmcvicker.com/concerts/gig-1884/
DTSTART;VALUE=DATE:20100522
SUMMARY:Solid Rock Bible Fellowship
LOCATION:Solid Rock Bible Fellowship\, Napoleon\, IN
END:VEVENT
END:VCALENDAR
