BEGIN:VCALENDAR
VERSION:2.0
PRODID:-//AudioTheme 2.3.8
BEGIN:VEVENT
UID:urn:uuid:2e356921-df28-42dd-8fc0-1bf612ccd53f
URL:https://mitchmcvicker.com/concerts/gig-1882/
DTSTART;VALUE=DATE:20100521
SUMMARY:Calvary Baptist Bible Church
LOCATION:Calvary Baptist Bible Church\, Peoria\, IL
END:VEVENT
END:VCALENDAR
