BEGIN:VCALENDAR
VERSION:2.0
PRODID:-//AudioTheme 2.3.8
BEGIN:VEVENT
UID:urn:uuid:a50e3a54-a461-40af-9ed2-ac2874cc1a6b
URL:https://mitchmcvicker.com/concerts/gig-1880/
DTSTART;VALUE=DATE:20100520
SUMMARY:Vineyard Church of Cedar Rapids
LOCATION:Vineyard Church of Cedar Rapids\, Cedar Rapids\, IA
END:VEVENT
END:VCALENDAR
