BEGIN:VCALENDAR
VERSION:2.0
PRODID:-//AudioTheme 2.3.8
BEGIN:VEVENT
UID:urn:uuid:a1f6d76e-68f8-4b73-b969-37e95502cb03
URL:https://mitchmcvicker.com/concerts/gig-1878/
DTSTART;VALUE=DATE:20100519
SUMMARY:First Friends Church
LOCATION:First Friends Church\, Marshalltown\, IA
END:VEVENT
END:VCALENDAR
