BEGIN:VCALENDAR
VERSION:2.0
PRODID:-//AudioTheme 2.3.8
BEGIN:VEVENT
UID:urn:uuid:cae1fac3-506a-41cc-91df-76635d05d31f
URL:https://mitchmcvicker.com/concerts/gig-1876/
DTSTART;VALUE=DATE:20100518
SUMMARY:Community Church
LOCATION:Community Church\, Oshkosh\, WI
END:VEVENT
END:VCALENDAR
