BEGIN:VCALENDAR
VERSION:2.0
PRODID:-//AudioTheme 2.3.8
BEGIN:VEVENT
UID:urn:uuid:eb60182d-224b-4f91-902b-c019e39cb6b9
URL:https://mitchmcvicker.com/concerts/gig-1872/
DTSTART;VALUE=DATE:20100502
SUMMARY:St. Leo Church
LOCATION:St. Leo Church\, Rochester\, NH
END:VEVENT
END:VCALENDAR
